BEGIN:VCALENDAR
VERSION:2.0
PRODID:-//Salisbury Association Site - ECPv6.15.20//NONSGML v1.0//EN
CALSCALE:GREGORIAN
METHOD:PUBLISH
X-WR-CALNAME:Salisbury Association Site
X-ORIGINAL-URL:https://salisburyassociation.org
X-WR-CALDESC:Events for Salisbury Association Site
REFRESH-INTERVAL;VALUE=DURATION:PT1H
X-Robots-Tag:noindex
X-PUBLISHED-TTL:PT1H
BEGIN:VTIMEZONE
TZID:America/New_York
BEGIN:DAYLIGHT
TZOFFSETFROM:-0500
TZOFFSETTO:-0400
TZNAME:EDT
DTSTART:20240310T070000
END:DAYLIGHT
BEGIN:STANDARD
TZOFFSETFROM:-0400
TZOFFSETTO:-0500
TZNAME:EST
DTSTART:20241103T060000
END:STANDARD
BEGIN:DAYLIGHT
TZOFFSETFROM:-0500
TZOFFSETTO:-0400
TZNAME:EDT
DTSTART:20250309T070000
END:DAYLIGHT
BEGIN:STANDARD
TZOFFSETFROM:-0400
TZOFFSETTO:-0500
TZNAME:EST
DTSTART:20251102T060000
END:STANDARD
BEGIN:DAYLIGHT
TZOFFSETFROM:-0500
TZOFFSETTO:-0400
TZNAME:EDT
DTSTART:20260308T070000
END:DAYLIGHT
BEGIN:STANDARD
TZOFFSETFROM:-0400
TZOFFSETTO:-0500
TZNAME:EST
DTSTART:20261101T060000
END:STANDARD
END:VTIMEZONE
BEGIN:VEVENT
DTSTART;TZID=America/New_York:20250215T100000
DTEND;TZID=America/New_York:20250430T130000
DTSTAMP:20260420T054418
CREATED:20250130T012656Z
LAST-MODIFIED:20250130T012656Z
UID:3453-1739613600-1746018000@salisburyassociation.org
SUMMARY:Historical Society Exhibit: Birth\, Death and Alphabets: The Enduring Legacy of Schoolgirl Needleworks before 1850 with Alexandra Peters
DESCRIPTION:Remarkable for their inventiveness and beauty\, needlework samplers are historical documents written by girls on silk and linen with needles.
URL:https://salisburyassociation.org/event/historical-society-exhibit-birth-death-and-alphabets-the-enduring-legacy-of-schoolgirl-needleworks-before-1850-with-alexandra-peters/
LOCATION:Academy Building\, 24 Main St\, Salisbury\, CT\, 06068\, United States
CATEGORIES:Exhibit
END:VEVENT
END:VCALENDAR